BEGIN:VCALENDAR
VERSION:2.0
PRODID:-//DP Pro Event Calendar//3.2.6//EN
BEGIN:VEVENT
UID:ad59b791-f8b7-4ce1-a882-50769075676f
DTSTART;TZID=America/Los_Angeles:20210527T140000
DTEND;TZID=America/Los_Angeles:20210527T140000
DTSTAMP:20210526T154532Z
SUMMARY:Community Vaccine Clinic
DESCRIPTION:Lane County Public Health and Search and Rescue is hosting a vaccine clinic at McKenzie River Community School on 5/27 2:00-3:00 for students and from 3:00-6:00 for the community.&nbsp\;\r \n Sing up here:&nbsp\;https://www.cognitoforms.com/LaneCountyCOVID/LaneCountyCOVID19VaccineScheduling\r \n Vaccine: Pfizer and Johnson &amp\; Johnson&nbsp\;\r \n Location: 51187 Blue River Dr.\, Finn Rock\, OR\, 97488&nbsp\;\r \n Park in front of the high school building and check in at Old Gym covered breezeway doors before main entry.&nbsp\;
LOCATION:
URL:
END:VEVENT
END:VCALENDAR