BEGIN:VCALENDAR
VERSION:2.0
PRODID:-//DP Pro Event Calendar//3.2.6//EN
BEGIN:VEVENT
UID:c4dc40ff-88a6-4d92-b4fd-70574c1913ac
DTSTART;TZID=America/Los_Angeles:20210607T170000
DTEND;TZID=America/Los_Angeles:20210607T180000
DTSTAMP:20210604T141213Z
SUMMARY:Community Vaccine Clinic- Homes for Good
DESCRIPTION:Homes for Good\, in partnership with Lane County Public Health is hosting a COVID-19 vaccine clinic on Monday\, June 7th from 5:00 - 6:00 pm.\r \n \r \n Location: Village Oaks\r \n \r \n 3610 W 18th Ave\, Eugene\, OR\r \n \r \n Vaccine: Pfizer and J&amp\;J\r \n \r \n This vaccine clinic is open to the community.\r \n \r \n Walk-ins welcome!
LOCATION:
URL:
END:VEVENT
END:VCALENDAR