BEGIN:VCALENDAR
VERSION:2.0
PRODID:-//DP Pro Event Calendar//3.2.6//EN
BEGIN:VEVENT
UID:e0c5a184-88c7-4661-a3a3-c963f32fc8a5
DTSTART;TZID=America/Los_Angeles:20210609T123000
DTEND;TZID=America/Los_Angeles:20210609T153000
DTSTAMP:20210604T142352Z
SUMMARY:Community Vaccine Clinic - Huerto de la Familia\, Kalapuya High School
DESCRIPTION:Huerto de la Familia and Kalapuya High School\, in partnership with Lane County Public Health is hosting a COVID-19 vaccine clinic on Wednesday\, June 9th from 12:30-3:30. \r \n \r \n Location: Prairie Mountain School \r \n \r \n 5305 Royal Ave\, Eugene\, 97402\r \n \r \n Vaccine: Pfizer and J&amp\;J\r \n \r \n This vaccine clinic is open to the community.\r \n \r \n Walk-ins welcome!
LOCATION:
URL:
END:VEVENT
END:VCALENDAR