BEGIN:VCALENDAR
VERSION:2.0
PRODID:-//DP Pro Event Calendar//3.2.6//EN
BEGIN:VEVENT
UID:1fdff629-2d84-4300-8407-485f9197e3f5
DTSTART;TZID=America/Los_Angeles:20210612T120000
DTEND;TZID=America/Los_Angeles:20210612T150000
DTSTAMP:20210604T163142Z
SUMMARY:Community Vaccine Clinic - Centro Latino Americano & 4J
DESCRIPTION:Centro Latino Americano &amp\; 4J School district\, in partnership with Lane County Public Health are hosting a COVID-19 clinic\, on Saturday\, June 12th from noon- 3:00 pm. \r \n \r \n Location: Churchill High School\r \n \r \n 1850 Bailey Hill Rd\, Eugene\, 97405\r \n \r \n Vaccine: Pfizer\r \n \r \n Sign up here: https://centrolatinoamericano.org/home/clinicas-de-vacunacion/\r \n \r \n &nbsp\;
LOCATION:
URL:
END:VEVENT
END:VCALENDAR