BEGIN:VCALENDAR
VERSION:2.0
PRODID:-//DP Pro Event Calendar//3.2.6//EN
BEGIN:VEVENT
UID:e8011d95-f883-4c25-a5f7-4a2adf5e86a1
DTSTART;TZID=America/Los_Angeles:20210825T090000
DTEND;TZID=America/Los_Angeles:20210825T150000
DTSTAMP:20210802T143449Z
SUMMARY:Community Vaccine Clinic - McKenzie School District
DESCRIPTION:Lane County Public Health\, in partnership with the McKenzie School District is hosting a COVID-19 vaccine clinic on Wednesday\,  August 25th from 9:00 am - 3:00 pm. \r \n \r \n Location: McKenzie River Community School \r \n \r \n 51187 Blue River Drive\, Finn Rock 97488\r \n \r \n Vaccine: Pfizer and J&amp\;J\r \n \r \n Walk-ins are welcome at all Lane County Public Health Clinics. You do not need insurance and there is no charge of any kind for the clinic.  We will not ask about ID or immigration status. The COVID-19 vaccine is free regardless of immigration or insurance status. If you have any questions regarding COVID-19\, please contact Lane County Public Health Call Center 541-682-1380. Appointments and information are available at www.lanecountyor.gov/vaxclinics .\r \n \r \n &nbsp\;\r \n \r \n Las personas sin cita previa serán atendidas en todas las Clínicas de Salud Pública del Condado de Lane. No necesita seguro médico y no hay costo alguno por la clínica.  No preguntaremos acerca del estado migratorio. La vacuna contra COVID-19 es gratuita independientemente del estado migratorio o del seguro médico. Si tiene alguna pregunta sobre COVID-19 favor contactar con la línea de información general de Salud Pública 541-682-1380. Citas y información disponibles en www.lanecounty.org/clinicasdevacunas.\r \n \r \n &nbsp\;
LOCATION:
URL:
END:VEVENT
END:VCALENDAR