BEGIN:VCALENDAR
VERSION:2.0
PRODID:-//DP Pro Event Calendar//3.2.6//EN
BEGIN:VEVENT
UID:f4d020a4-17dd-4cec-b979-9f2f86b58358
DTSTART;TZID=America/Los_Angeles:20211114T100000
DTEND;TZID=America/Los_Angeles:20211114T160000
DTSTAMP:20211108T154326Z
SUMMARY:Community Vaccine Clinic - Lane County Developmental Disabilities Services
DESCRIPTION:Lane County Developmental Disabilities Services and Lane County Public Health are hosting a COVID- 19 vaccine clinic on Sunday\, November 14th from 10:00 am - 4:00 pm.  \r \n \r \n Location: Lane County Health and Human Services Building\r \n \r \n 151 W 7th St\, Eugene\r \n \r \n Vaccines: Pfizer \r \n \r \n ***Vaccine for 5-17 year old's by appointment only. For assistance scheduling\, call the Lane County Public Health COVID Call Center at 541-682-1380.\r \n \r \n  	Lane County Public Health is scheduling clinics in partnership with schools and community centers throughout Lane County. You can check the current schedule and sign up at www.lanecounty.org/vaxclinics or by calling (541) 682-1380.\r \n  	Lane County Public Health clinics are typically located in large open spaces such as gymnasiums\, auditoriums\, or community centers. If your child needs a more private space to be vaccinated\, please speak with your pediatrician or family practice doctor.\r \n  	For many children the most comfortable and familiar place to receive vaccinations is with the family’s trusted pediatrician or family practice doctor.\r \n  	For children with complex health needs their personal provider is the most appropriate location for accessing vaccinations.\r \n \r \n &nbsp\;
LOCATION:
URL:
END:VEVENT
END:VCALENDAR