BEGIN:VCALENDAR
VERSION:2.0
PRODID:-//DP Pro Event Calendar//3.2.6//EN
BEGIN:VEVENT
UID:9ae66cb6-97e7-4161-8e1e-025ef4f97fac
DTSTART;TZID=America/Los_Angeles:20211204T103000
DTEND;TZID=America/Los_Angeles:20211204T130000
DTSTAMP:20211124T112243Z
SUMMARY:Community Vaccine Clinic - 8:46 Justice Today
DESCRIPTION:8:46 Justice Today  is hosting a COVID vaccine clinic on Saturday\, December 4th from 10:30 am- 1:00 pm at 125 West Broadway Eugene\, OR\r \n \r \n Vaccines: Pfizer\, Moderna and Johnson &amp\; Johnson
LOCATION:
URL:
END:VEVENT
END:VCALENDAR