BEGIN:VCALENDAR
VERSION:2.0
PRODID:-//DP Pro Event Calendar//3.2.6//EN
BEGIN:VEVENT
UID:9c6508ed-1730-4b3b-9257-ed2f38c68289
DTSTART;TZID=America/Los_Angeles:20211218T103000
DTEND;TZID=America/Los_Angeles:20211218T130000
DTSTAMP:20211129T113152Z
SUMMARY:Community Vaccine Clinic - Glamour Girls and Guys
DESCRIPTION:8:46 Justice Today  is hosting a COVID vaccine clinic on Saturday\, December 18th from 10:30 am- 1:00 pm\r \n \r \n Location: Glamour Girls and Guys Hair Studio\r \n \r \n at 125 West Broadway Eugene\, OR\r \n \r \n Vaccines: Pfizer\, Moderna and Johnson &amp\; Johnson
LOCATION:
URL:
END:VEVENT
END:VCALENDAR