BEGIN:VCALENDAR
VERSION:2.0
PRODID:-//DP Pro Event Calendar//3.2.6//EN
BEGIN:VEVENT
UID:7246d878-891d-4f4b-88cd-ccd7ace41f6f
DTSTART;TZID=America/Los_Angeles:20220206T110000
DTEND;TZID=America/Los_Angeles:20220206T160000
DTSTAMP:20220103T112101Z
SUMMARY:Walk-In Vaccine Clinic - Florence Events Center
DESCRIPTION:The Oregon Health Authority is hosting COVID-19 vaccine clinics on Sundays 11:00 am - 4:00pm at the Florence Events Center. \r \n \r \n Location: Florence Events Center.\r \n \r \n 715 Quince St.\, Florence.\r \n \r \n Vaccine:\r \n \r \n  	Booster dose Pfizer and Moderna\r \n  	1st\, 2nd dose Pfizer and Moderna\r \n  	Johnson &amp\; Johnson \r \n \r \n You do not need insurance and there is no charge of any kind for the clinic.  We will not ask about ID or immigration status. The COVID-19 vaccine is free regardless of immigration or insurance status.\r \n \r \n No necesita seguro médico y no hay costo alguno por la clínica.  No preguntaremos acerca del estado migratorio. La vacuna contra COVID-19 es gratuita independientemente del estado migratorio o del seguro médico.\r \n \r \n &nbsp\;
LOCATION:
URL:
END:VEVENT
END:VCALENDAR