BEGIN:VCALENDAR
VERSION:2.0
PRODID:-//DP Pro Event Calendar//3.2.6//EN
BEGIN:VEVENT
UID:7fa38ca0-df61-4d8b-a363-4028ea6ce9e4
DTSTART;TZID=America/Los_Angeles:20220302T160000
DTEND;TZID=America/Los_Angeles:20220302T190000
DTSTAMP:20220208T080733Z
SUMMARY:Community Vaccine Clinic - White Bird
DESCRIPTION:White Bird is hosting COVID-19 clinics every Wednesdays from 4:00-7:00 pm. These clinics are open to anyone 12+ years old.\r \n \r \n ***Please note the location change\r \n \r \n Location: White Bird Dental Clinic\r \n \r \n 1415 Pearl (with client entrance at 202 E 14th Street).\r \n \r \n Vaccine: \r \n \r \n  	1st and 2nd dose of Pfizer and Moderna \r \n  	Booster dose of Pfizer and Moderna \r \n  	Johnson and Johnson \r \n \r \n Walk-ins only!\r \n \r \n Safeway gift cards available\r \n \r \n Not sure you want to get the vaccine? White Bird can provide vaccine counseling and talk you through your options and explore if it's a good fit for you.\r \n \r \n &nbsp\;
LOCATION:
URL:
END:VEVENT
END:VCALENDAR