BEGIN:VCALENDAR
VERSION:2.0
PRODID:-//DP Pro Event Calendar//3.2.6//EN
BEGIN:VEVENT
UID:27f3ed9f-d8e5-41bd-b0c0-8289449c36f2
DTSTART;TZID=America/Los_Angeles:20220404T130000
DTEND;TZID=America/Los_Angeles:20220404T180000
DTSTAMP:20220302T102618Z
SUMMARY:White Bird Vaccine Clinic
DESCRIPTION:White Bird is hosting COVID-19 clinics every Monday from 1:00-6:00. These clinics are open to anyone 12+ years old.\r \n \r \n Location: White Bird Dental Clinic\r \n \r \n 1415 Pearl (with client entrance at 202 E 14th Street).\r \n \r \n Vaccine: \r \n \r \n  	1st and 2nd dose of Pfizer and Moderna \r \n  	Booster dose of Pfizer and Moderna \r \n  	Johnson and Johnson \r \n \r \n Walk-ins only!\r \n \r \n Safeway gift cards available\r \n \r \n Not sure you want to get the vaccine? White Bird can provide vaccine counseling and talk you through your options and explore if it's a good fit for you.
LOCATION:
URL:
END:VEVENT
END:VCALENDAR