BEGIN:VCALENDAR
VERSION:2.0
PRODID:-//DP Pro Event Calendar//3.2.6//EN
BEGIN:VEVENT
UID:0e186586-3396-4c29-a9f3-7ce8f547df29
DTSTART;TZID=America/Los_Angeles:20220513T120000
DTEND;TZID=America/Los_Angeles:20220513T190000
DTSTAMP:20220330T104641Z
SUMMARY:Drive-Thru Vaccine Clinic - Autzen Stadium
DESCRIPTION:The Oregon Health Authority is hosting Drive-Thru vaccine clinics Thursday - Sunday from 12:00 - 7:00 pm Autzen Stadium. \r \n \r \n Location: Autzen Stadium \r \n \r \n 2700 Martin Luther King\, Jr. Blvd\, Eugene\, OR Please follow vaccine clinic signage.\r \n \r \n ***OHA clinics do NOT require an appointment\r \n \r \n Vaccine:\r \n \r \n  	Booster dose Pfizer and Moderna\r \n  	1st\, 2nd dose Pfizer and Moderna\r \n  	Johnson &amp\; Johnson\r \n  	and Pediatric doses \r \n \r \n You do not need insurance and there is no charge of any kind for the clinic.  We will not ask about ID or immigration status. The COVID-19 vaccine is free regardless of immigration or insurance status.\r \n \r \n No necesita seguro médico y no hay costo alguno por la clínica.  No preguntaremos acerca del estado migratorio. La vacuna contra COVID-19 es gratuita independientemente del estado migratorio o del seguro médico.\r \n \r \n &nbsp\;
LOCATION:
URL:
END:VEVENT
END:VCALENDAR