BEGIN:VCALENDAR
VERSION:2.0
PRODID:-//DP Pro Event Calendar//3.2.6//EN
BEGIN:VEVENT
UID:5829bc93-b721-4b8b-8534-f457c84f3297
DTSTART;TZID=America/Los_Angeles:20210711T130000
DTEND;TZID=America/Los_Angeles:20210711T160000
DTSTAMP:20210702T131249Z
SUMMARY:Community Vaccine Clinic - Whiteaker Community Council
DESCRIPTION:Whiteaker Community Council\, in partnership with Lane County Public Health is hosting a COVID-19 vaccine clinic on Sunday\, July 11th from 1:00 - 4:00 pm. \r \n \r \n Location: Alluvium \r \n \r \n 810 W 3rd Ave\, Eugene\, 97402\r \n \r \n Vaccine: Pfizer and J&amp\;J\r \n \r \n To register for a vaccine visit: https://www.cognitoforms.com/LaneCountyCOVID/LaneCountyCOVID19VaccineScheduling
LOCATION:
URL:
END:VEVENT
END:VCALENDAR